BEGIN:VCALENDAR
VERSION:2.0
PRODID:-//Commune de Bellancourt - ECPv6.15.20//NONSGML v1.0//EN
CALSCALE:GREGORIAN
METHOD:PUBLISH
X-WR-CALNAME:Commune de Bellancourt
X-ORIGINAL-URL:https://www.bellancourt.fr
X-WR-CALDESC:Évènements pour Commune de Bellancourt
REFRESH-INTERVAL;VALUE=DURATION:PT1H
X-Robots-Tag:noindex
X-PUBLISHED-TTL:PT1H
BEGIN:VTIMEZONE
TZID:Europe/Paris
BEGIN:DAYLIGHT
TZOFFSETFROM:+0100
TZOFFSETTO:+0200
TZNAME:CEST
DTSTART:20250330T010000
END:DAYLIGHT
BEGIN:STANDARD
TZOFFSETFROM:+0200
TZOFFSETTO:+0100
TZNAME:CET
DTSTART:20251026T010000
END:STANDARD
BEGIN:DAYLIGHT
TZOFFSETFROM:+0100
TZOFFSETTO:+0200
TZNAME:CEST
DTSTART:20260329T010000
END:DAYLIGHT
BEGIN:STANDARD
TZOFFSETFROM:+0200
TZOFFSETTO:+0100
TZNAME:CET
DTSTART:20261025T010000
END:STANDARD
BEGIN:DAYLIGHT
TZOFFSETFROM:+0100
TZOFFSETTO:+0200
TZNAME:CEST
DTSTART:20270328T010000
END:DAYLIGHT
BEGIN:STANDARD
TZOFFSETFROM:+0200
TZOFFSETTO:+0100
TZNAME:CET
DTSTART:20271031T010000
END:STANDARD
END:VTIMEZONE
BEGIN:VEVENT
DTSTART;TZID=Europe/Paris:20260308T150000
DTEND;TZID=Europe/Paris:20260308T173000
DTSTAMP:20260422T192000
CREATED:20260124T110032Z
LAST-MODIFIED:20260208T091204Z
UID:7202-1772982000-1772991000@www.bellancourt.fr
SUMMARY:Spectacle "mots d'Amour et mots d'Humour"
DESCRIPTION:« MOTS d’Amour et MOTS d’Humour »\nspectacle contes et chansons\, en picard et en français \nQu’ils soient français ou picards\, les mots sont les véhicules de nos émotions. Qu’ils soient contés ou chantés\, les mots seront à la fête lors du spectacle donné par le trio « Ti pi Mi pi Li »\, à la salle des fêtes de Bellancourt\, le dimanche 8 mars à 15h30.\nSylvie et Jean-marie François seront aux contes picards traditionnels\, tandis que Yves Bailleul et son accordéon feront vibrer les belles chansons françaises. Amour\, tendresse et humour seront au programme de cet événement convivial. \nUne buffet de pâtisseries vous sera proposée au moment de l’entracte. Buvette \nDate à retenir \n 
URL:https://www.bellancourt.fr/event/spectacle-mots-damour-et-mots-dhumour/
END:VEVENT
BEGIN:VEVENT
DTSTART;TZID=Europe/Paris:20260315T080000
DTEND;TZID=Europe/Paris:20260315T180000
DTSTAMP:20260422T192000
CREATED:20260124T110454Z
LAST-MODIFIED:20260124T110559Z
UID:7206-1773561600-1773597600@www.bellancourt.fr
SUMMARY:élections municipales 15 mars
DESCRIPTION:
URL:https://www.bellancourt.fr/event/elections-municipales-15-et-22-mars/
LOCATION:MAIRIE\, 12 rue de l'église\, BELLANCOURT\, 80132
END:VEVENT
BEGIN:VEVENT
DTSTART;VALUE=DATE:20260329
DTEND;VALUE=DATE:20260330
DTSTAMP:20260422T192000
CREATED:20260311T061503Z
LAST-MODIFIED:20260311T061542Z
UID:7273-1774742400-1774828799@www.bellancourt.fr
SUMMARY:Les printemps du département
DESCRIPTION:pour plus de détails\, voir l’article
URL:https://www.bellancourt.fr/event/les-printemps-du-departement/
END:VEVENT
END:VCALENDAR