BEGIN:VCALENDAR
VERSION:2.0
PRODID:-//Commune de Bellancourt - ECPv6.15.20//NONSGML v1.0//EN
CALSCALE:GREGORIAN
METHOD:PUBLISH
X-WR-CALNAME:Commune de Bellancourt
X-ORIGINAL-URL:https://www.bellancourt.fr
X-WR-CALDESC:Évènements pour Commune de Bellancourt
REFRESH-INTERVAL;VALUE=DURATION:PT1H
X-Robots-Tag:noindex
X-PUBLISHED-TTL:PT1H
BEGIN:VTIMEZONE
TZID:Europe/Paris
BEGIN:DAYLIGHT
TZOFFSETFROM:+0100
TZOFFSETTO:+0200
TZNAME:CEST
DTSTART:20250330T010000
END:DAYLIGHT
BEGIN:STANDARD
TZOFFSETFROM:+0200
TZOFFSETTO:+0100
TZNAME:CET
DTSTART:20251026T010000
END:STANDARD
BEGIN:DAYLIGHT
TZOFFSETFROM:+0100
TZOFFSETTO:+0200
TZNAME:CEST
DTSTART:20260329T010000
END:DAYLIGHT
BEGIN:STANDARD
TZOFFSETFROM:+0200
TZOFFSETTO:+0100
TZNAME:CET
DTSTART:20261025T010000
END:STANDARD
BEGIN:DAYLIGHT
TZOFFSETFROM:+0100
TZOFFSETTO:+0200
TZNAME:CEST
DTSTART:20270328T010000
END:DAYLIGHT
BEGIN:STANDARD
TZOFFSETFROM:+0200
TZOFFSETTO:+0100
TZNAME:CET
DTSTART:20271031T010000
END:STANDARD
END:VTIMEZONE
BEGIN:VEVENT
DTSTART;TZID=Europe/Paris:20260206T193000
DTEND;TZID=Europe/Paris:20260206T193000
DTSTAMP:20260422T204341
CREATED:20260124T105131Z
LAST-MODIFIED:20260124T105144Z
UID:7200-1770406200-1770406200@www.bellancourt.fr
SUMMARY:Assemblée Générale du Comité des Fêtes
DESCRIPTION:le Comité des Fêtes réunie son assemblée générale le vendredi 6 février à 19h30 \nau programme : \nBilan d’activité 2025 \nBilan financier au 31/12/2025 \nRenouvellement du bureau \nPropositions d’activités pour 2026 \nla réunion se terminera par un pot de l’amitié \n 
URL:https://www.bellancourt.fr/event/assemblee-generale-du-comite-des-fetes/
LOCATION:MAIRIE\, 12 rue de l'église\, BELLANCOURT\, 80132
END:VEVENT
END:VCALENDAR