BEGIN:VCALENDAR
VERSION:2.0
PRODID:-//Commune de Bellancourt - ECPv6.15.20//NONSGML v1.0//EN
CALSCALE:GREGORIAN
METHOD:PUBLISH
X-ORIGINAL-URL:https://www.bellancourt.fr
X-WR-CALDESC:Évènements pour Commune de Bellancourt
REFRESH-INTERVAL;VALUE=DURATION:PT1H
X-Robots-Tag:noindex
X-PUBLISHED-TTL:PT1H
BEGIN:VTIMEZONE
TZID:Europe/Paris
BEGIN:DAYLIGHT
TZOFFSETFROM:+0100
TZOFFSETTO:+0200
TZNAME:CEST
DTSTART:20240331T010000
END:DAYLIGHT
BEGIN:STANDARD
TZOFFSETFROM:+0200
TZOFFSETTO:+0100
TZNAME:CET
DTSTART:20241027T010000
END:STANDARD
BEGIN:DAYLIGHT
TZOFFSETFROM:+0100
TZOFFSETTO:+0200
TZNAME:CEST
DTSTART:20250330T010000
END:DAYLIGHT
BEGIN:STANDARD
TZOFFSETFROM:+0200
TZOFFSETTO:+0100
TZNAME:CET
DTSTART:20251026T010000
END:STANDARD
BEGIN:DAYLIGHT
TZOFFSETFROM:+0100
TZOFFSETTO:+0200
TZNAME:CEST
DTSTART:20260329T010000
END:DAYLIGHT
BEGIN:STANDARD
TZOFFSETFROM:+0200
TZOFFSETTO:+0100
TZNAME:CET
DTSTART:20261025T010000
END:STANDARD
END:VTIMEZONE
BEGIN:VEVENT
DTSTART;TZID=Europe/Paris:20250419T110000
DTEND;TZID=Europe/Paris:20250419T120000
DTSTAMP:20260423T193827
CREATED:20250403T055422Z
LAST-MODIFIED:20250407T194622Z
UID:1762-1745060400-1745064000@www.bellancourt.fr
SUMMARY:Chasse aux oeufs
DESCRIPTION:    le Conseil Municipal invite les enfants de 2 à 12 ans à participer à la chasse aux œufs de Pâques\, dans le bois communal\, rue de l’enclos picard \n  \nInscription des enfants participants au 06 73 74 17 23 avant le 15 avril
URL:https://www.bellancourt.fr/event/chasse-aux-oeufs/
CATEGORIES:Festivité
END:VEVENT
END:VCALENDAR