BEGIN:VCALENDAR
VERSION:2.0
PRODID:-//Commune de Bellancourt - ECPv6.15.20//NONSGML v1.0//EN
CALSCALE:GREGORIAN
METHOD:PUBLISH
X-ORIGINAL-URL:https://www.bellancourt.fr
X-WR-CALDESC:Évènements pour Commune de Bellancourt
REFRESH-INTERVAL;VALUE=DURATION:PT1H
X-Robots-Tag:noindex
X-PUBLISHED-TTL:PT1H
BEGIN:VTIMEZONE
TZID:Europe/Paris
BEGIN:DAYLIGHT
TZOFFSETFROM:+0100
TZOFFSETTO:+0200
TZNAME:CEST
DTSTART:20250330T010000
END:DAYLIGHT
BEGIN:STANDARD
TZOFFSETFROM:+0200
TZOFFSETTO:+0100
TZNAME:CET
DTSTART:20251026T010000
END:STANDARD
BEGIN:DAYLIGHT
TZOFFSETFROM:+0100
TZOFFSETTO:+0200
TZNAME:CEST
DTSTART:20260329T010000
END:DAYLIGHT
BEGIN:STANDARD
TZOFFSETFROM:+0200
TZOFFSETTO:+0100
TZNAME:CET
DTSTART:20261025T010000
END:STANDARD
BEGIN:DAYLIGHT
TZOFFSETFROM:+0100
TZOFFSETTO:+0200
TZNAME:CEST
DTSTART:20270328T010000
END:DAYLIGHT
BEGIN:STANDARD
TZOFFSETFROM:+0200
TZOFFSETTO:+0100
TZNAME:CET
DTSTART:20271031T010000
END:STANDARD
END:VTIMEZONE
BEGIN:VEVENT
DTSTART;TZID=Europe/Paris:20260411T100000
DTEND;TZID=Europe/Paris:20260411T180000
DTSTAMP:20260422T192128
CREATED:20260309T205231Z
LAST-MODIFIED:20260309T205716Z
UID:7248-1775901600-1775930400@www.bellancourt.fr
SUMMARY:Marché Artisanal
DESCRIPTION:
URL:https://www.bellancourt.fr/event/marche-artisanal/
END:VEVENT
BEGIN:VEVENT
DTSTART;TZID=Europe/Paris:20260411T110000
DTEND;TZID=Europe/Paris:20260411T120000
DTSTAMP:20260422T192128
CREATED:20260324T100826Z
LAST-MODIFIED:20260324T100826Z
UID:7282-1775905200-1775908800@www.bellancourt.fr
SUMMARY:Chasse aux oeufs
DESCRIPTION:Flyer Chasse aux oeufs 2026
URL:https://www.bellancourt.fr/event/chasse-aux-oeufs-2/
LOCATION:terrain de pétanque enclos picard
END:VEVENT
END:VCALENDAR