BEGIN:VCALENDAR
VERSION:2.0
PRODID:-//Commune de Bellancourt - ECPv6.15.20//NONSGML v1.0//EN
CALSCALE:GREGORIAN
METHOD:PUBLISH
X-ORIGINAL-URL:https://www.bellancourt.fr
X-WR-CALDESC:Évènements pour Commune de Bellancourt
REFRESH-INTERVAL;VALUE=DURATION:PT1H
X-Robots-Tag:noindex
X-PUBLISHED-TTL:PT1H
BEGIN:VTIMEZONE
TZID:Europe/Paris
BEGIN:DAYLIGHT
TZOFFSETFROM:+0100
TZOFFSETTO:+0200
TZNAME:CEST
DTSTART:20240331T010000
END:DAYLIGHT
BEGIN:STANDARD
TZOFFSETFROM:+0200
TZOFFSETTO:+0100
TZNAME:CET
DTSTART:20241027T010000
END:STANDARD
BEGIN:DAYLIGHT
TZOFFSETFROM:+0100
TZOFFSETTO:+0200
TZNAME:CEST
DTSTART:20250330T010000
END:DAYLIGHT
BEGIN:STANDARD
TZOFFSETFROM:+0200
TZOFFSETTO:+0100
TZNAME:CET
DTSTART:20251026T010000
END:STANDARD
BEGIN:DAYLIGHT
TZOFFSETFROM:+0100
TZOFFSETTO:+0200
TZNAME:CEST
DTSTART:20260329T010000
END:DAYLIGHT
BEGIN:STANDARD
TZOFFSETFROM:+0200
TZOFFSETTO:+0100
TZNAME:CET
DTSTART:20261025T010000
END:STANDARD
END:VTIMEZONE
BEGIN:VEVENT
DTSTART;TZID=Europe/Paris:20251209T100000
DTEND;TZID=Europe/Paris:20251209T110000
DTSTAMP:20260424T132945
CREATED:20251205T104034Z
LAST-MODIFIED:20251206T204251Z
UID:3937-1765274400-1765278000@www.bellancourt.fr
SUMMARY:Obsèques de Mr Alain BILLARD
DESCRIPTION:Faire-part Alain BILLARD
URL:https://www.bellancourt.fr/event/obseques-dalain-billard/
LOCATION:Eglise de Bellancourt
END:VEVENT
END:VCALENDAR